Workbook
Name Name: Arbeitsbedingungen!#REF!
Name Name: Belastungen!#REF!
Name Name: Kompetenzen!#REF!
Name Name: Übersicht!#REF!
Name Name: Verantwortung!#REF!
Name Name: #REF!
Name OLE_LINK1: Arbeitsbedingungen!#REF!
Name OLE_LINK1: Belastungen!#REF!
Name OLE_LINK1: Kompetenzen!#REF!
Name OLE_LINK1: Verantwortung!#REF!
Name RegelungscheckStufensteigerungen: Arbeitsbedingungen!#REF!
Name RegelungscheckStufensteigerungen: Belastungen!#REF!
Name RegelungscheckStufensteigerungen: Kompetenzen!#REF!
Name RegelungscheckStufensteigerungen: Übersicht!#REF!
Name RegelungscheckStufensteigerungen: Verantwortung!#REF!

Sheet Übersicht
A2: Entgeltgleichheit prüfen mit EG-Check: GleichWertCheck
A3: Mithilfe des GleichWertChecks kann ermittelt werden, wie hoch die Anforderungen einer Stelle oder Tätigkeit sind. Wenn Sie den GleichWertCheck mehrfach durchführen, können Sie die Höhe der Anforderungen an unterschiedlichen Stellen miteinander vergleichen. Dadurch stellen Sie fest, ob beziehungsweise welche Stellen von ihren Anforderungen her gleichwertig sind und deshalb gleich vergütet werden müssen. Nutzen Sie hierfür die Vergleichsübersicht Gleichwertigkeit. Bitte beachten Sie: Der hier zur Verfügung gestellte GleichWertCheck dient lediglich Prüfzwecken, das heißt, er stellt kein umfassendes Verfahren zur Neubewertung von Tätigkeiten dar. Er kann aber als Grundlage für ein betriebliches oder tarifliches Entgeltsystem dienen.
A4: Hinweise zum Ausfüllen des GleichWertChecks: Bitte füllen Sie zunächst die gelb unterlegten Felder für die betrachtete Stelle aus (Bezeichnung, aktuelle Eingruppierung, Frauenanteil an den Stelleninhaber*innen). Die Bewertung der Anforderungen nehmen Sie in den entsprechenden Feldern der nachfolgenden Arbeitsblätter für Kompetenzen, Belastungen, Verantwortung und Arbeitsbedingungen vor. In diesen Arbeitsblättern werden die verschiedenen Anforderungen definiert. Die möglichen Ausprägungsstufen jeder Anforderung werden aufgelistet und einem Wert zugeordnet. Bitte tragen Sie in allen vier Arbeitsblättern die jeweils zutreffende Anforderungshöhe (beziehungsweise Ausprägungsstufe) in die Spalte für die Bewertung ein. Dabei wird meist der Zahlenwert der zutreffenden Ausprägungsstufe eingetragen. In den Arbeitsblättern für Belastungen und Arbeitsbedingungen gilt in manchen Fällen, dass für jede zutreffende Belastung eine 1 in die Spalte für die Bewertung einzutragen ist. Wenn dies der Fall ist, wird darauf hingewiesen. Die eingetragenen Werte übertragen sich automatisch in die Übersicht in diesem Arbeitsblatt und addieren sich zu einer Gesamtsumme. Die Gesamtsumme gibt die Höhe der Anforderungen an und errmöglicht einen Vergleich mit der Anforderungshöhe an anderen Stellen.
A5: Ergebnisse des GleichWertChecks für die Tätigkeit: | D5: Tätigkeit
A6: Aktuelle Eingruppierung: | C6: Bitte eintragen | D6: Anteil weiblicher Stelleninhaber*innen in %: | F6: Bitte eintragen
A7: 1. | B7: Anforderungen an Kompetenzen | D7: 2. | E7: Belastungen
A8: 1.1 | B8: Fachkenntnisse und Fertigkeiten | C8: =Kompetenzen!C19 -> 0 | D8: 2.1 | E8: Physische Belastungen – Körperkraft | F8: =Belastungen!C15 -> 0
A9: 1.2 | B9: Zusatzqualifikationen | C9: =Kompetenzen!C33 -> 0 | D9: 2.2 | E9: Physische Belastungen – Körperhaltung, Bewegungsabläufe und Sinnesorgane | F9: =Belastungen!C32 -> 0
A10: 1.3 | B10: Fachliche Erfahrung in der Praxis | C10: =Kompetenzen!C55 -> 0 | D10: 2.3 | E10: Psychosoziale Belastungen | F10: =Belastungen!C56 -> 0
A11: 1.4 | B11: Planungs- und Prozesskompetenz | C11: =Kompetenzen!C70 -> 0 | D11: 2.4 | E11: Mentale Belastungen: Bewältigen von tätigkeitsbedingten Arbeitsunterbrechungen | F11: =Belastungen!C69 -> 0
A12: 1.5 | B12: Kommunikationskompetenz | C12: =Kompetenzen!C85 -> 0 | D12: 2.5 | E12: Mentale Belastungen: ununterbrochene Aufmerksamkeit und Konzentration | F12: =Belastungen!C82 -> 0
A13: 1.6 | B13: Kooperationskompetenz | C13: =Kompetenzen!C99 -> 0
A14: 1.7 | B14: Einfühlungs- und Überzeugungsvermögen | C14: =Kompetenzen!C113 -> 0
B15: Zwischensumme 1. | C15: =SUM(C8:C14) -> 0 | E15: Zwischensumme 2. | F15: =SUM(F8:F14) -> 0
A16: 3. | B16: Anforderungen an Verantwortung | D16: 4. | E16: Arbeitsbedingungen
A17: 3.1 | B17: Ökonomische Verantwortung | C17: =Verantwortung!C16 -> 0 | D17: 4.1 | E17: Belastende arbeitszeitliche Bedingungen | F17: =Arbeitsbedingungen!C16 -> 0
A18: 3.2 | B18: Verantwortung für die Sicherheit anderer Personen | C18: =Verantwortung!C30 -> 0 | D18: 4.2 | E18: Beeinträchtigende Umgebungsbedingungen | F18: =Arbeitsbedingungen!C42 -> 0
A19: 3.3 | B19: Verantwortung für die Arbeit anderer und für Führung | C19: =Verantwortung!C45 -> 0 | D19: 4.3 | E19: Belastende Einflüsse durch technologische Transformationsprozesse | F19: =Arbeitsbedingungen!C62 -> 0
A20: 3.4 | B20: Verantwortung für die Umwelt | C20: =Verantwortung!C58 -> 0 | F20: =Arbeitsbedingungen!C43 -> 0
A21: 3.5 | B21: Verantwortung für die eigene Qualifizierung | C21: =Verantwortung!C73 -> 0
B22: Zwischensumme 3. | C22: =SUM(C16:C21) -> 0 | E22: Zwischensumme 4. | F22: =SUM(F16:F21) -> 0
A23: Anforderungshöhe der Stelle (Gesamtsumme der Stufenzahlen aus 1. bis 4.) | F23: =C15+F15+C22+F22 -> 0

Sheet Kompetenzen
A1: Anforderungen an Kompetenzen
A3: 1.1 Fachkenntnisse und Fertigkeiten
A5: Definitionen:
A6: Fachkenntnisse sind fachbezogenes Grundwissen (Fakten, Grundsätze, Theorien und Praxis), das zur Ausübung der Tätigkeiten erforderlich ist. Fertigkeiten sind erforderliche kognitive (Denkvermögen) und praktische (Geschicklichkeit) Fähigkeiten, das Wissen anzuwenden. Die erforderlichen Fachkenntnisse und Fertigkeiten können durch einen formalen Ausbildungsabschluss oder anderweitig erworben worden sein (zum Beispiel Kurse, Selbststudium, berufliche Praxis oder kollegialer Austausch).
A8: Operationalisierung:
A9: Dauer und Art der erforderlichen beruflichen Ausbildung sowie Zuordnung zu den Niveaus 3 bis 8 des Deutschen Qualifikationsrahmens (DQR) Link: Download DQR-Liste der zugeordneten Qualifikationen_2024
B10: Bitte Zahlenwert der zutreffenden Stufe eintragen.
A11: Stufen | B11: Definition der Stufen | C11: =Übersicht!D5 -> Tätigkeit
A12: 1 | B12: Fachkenntnisse und Fertigkeiten, die durch Einarbeitung erworben werden
A13: 2 | B13: Fachkenntnisse und Fertigkeiten, die dem Niveau 3 des DQR zugeordnet sind: 2-jährige berufliche Ausbildungen und mittlere Schulabschlüsse an Berufsfachschulen
A14: 3 | B14: Fachkenntnisse und Fertigkeiten, die dem Niveau 4 des DQR zugeordnet sind: 3- bis 3,5-jährige duale Berufsausbildungen sowie (vollqualifizierende) Berufsausbildungen an Berufsfachschulen
A15: 4 | B15: Fachkenntnisse und Fertigkeiten, die dem Niveau 5 des DQR zugeordnet sind: (zertifizierte*r) IT-Spezialist*in, (geprüfte*r) Servicetechniker*in sowie sonstige berufliche Fortbildungsqualifikationen nach §§ 53, 54 BBiG und §§ 42, 42a HwO
A16: 5 | B16: Fachkenntnisse und Fertigkeiten, die dem Niveau 6 des DQR zugeordnet sind: Bachelorabschlüsse, geprüfte Fachkaufleute und Fachwirt*innen, Meister*innen, (geprüfte) operative Professionals, staatlich geprüfte Fachschulabschlüsse, sonstige berufliche Fortbildungsqualifikationen nach §§ 53, 54 BBiG und §§ 42, 42a HwO
A17: 6 | B17: Fachkenntnisse und Fertigkeiten, die dem Niveau 7 des DQR zugeordnet sind: Masterabschlüsse, (geprüfte) strategische Professionals, sonstige berufliche Fortbildungsqualifikationen nach §§ 53, 54 BBiG und §§ 42, 42a HwO
A18: 7 | B18: Fachkenntnisse und Fertigkeiten, die dem Niveau 8 des DQR zugeordnet sind: Doktorat, äquivalente künstlerische Abschlüsse
B19: Zutreffende Stufenwertzahl 1.1 | C19: =SUM(C12:C18) -> 0
A20: 1.2 Zusatzqualifikationen
A22: Definition:
A23: Zusatzqualifikationen sind zusätzliches fachliches und unternehmensbezogenes Wissen, das zur Ausübung der Tätigkeit erforderlich ist. Hier dürfen nur Qualifikationen berücksichtigt werden, die nicht bereits unter 1.1 bewertet wurden. Es kann sich beispielsweise um fachliche Kompetenzen in den Bereichen Technologie, Materialkunde, Informationstechnik, Rechtsgrundlagen oder um methodische oder betriebswirtschaftliche Kenntnisse handeln. Unternehmensbezogene Kompetenzen beinhalten unternehmensspezifische Kenntnisse von Produkten, Projekten und Prozessen. Die Zusatzqualifikation kann auf unterschiedlichen Wegen erworben werden, zum Beispiel durch Kurse, Selbststudium, berufliche Praxis oder kollegialen Austausch.
A25: Operationalisierung:
A26: Inhalt und Verfügbarkeit der erforderlichen Zusatzqualifikationen
B27: Bitte Zahlenwert der zutreffenden Stufe eintragen.
A28: Stufen | B28: Definition der Stufen | C28: =Übersicht!D5 -> Tätigkeit
A29: 0 | B29: Nicht erforderlich
A30: 1 | B30: Unternehmensspezifische Kenntnisse, die den eigenen Arbeitsbereich betreffen können, aber auch abteilungsübergreifende oder das gesamte Unternehmen umfassende Kenntnisse sein können
A31: 2 | B31: Fachliche Kenntnisse, die über die Fachkenntnisse und Fertigkeiten hinausgehen, die in der erforderlichen Ausbildung erworben wurden
A32: 3 | B32: Spezialkenntnisse, die nicht allgemein verfügbar sind, sondern speziell für die Tätigkeit recherchiert oder entwickelt werden müssen
B33: Zutreffende Stufenwertzahl 1.2 | C33: =SUM(C29:C32) -> 0
A35: Bezeichnung der erforderlichen Zusatzqualifikation(en):
A41: 1.3 Fachliche Erfahrung in der Praxis
A43: Definition:
A44: Die fachliche Erfahrung meint praktische Arbeitserfahrungen, die erforderlich sind, um die Tätigkeiten in der erwarteten Qualität ausüben zu können („Einarbeitungszeit auf der Stelle“). Darüber hinaus kann es erforderlich sein, bereits ähnliche oder identische Tätigkeiten (auch bei einem anderen Arbeitgeber) vor Antritt der betrachteten Stelle ausgeübt zu haben, um die Anforderungen der Stelle erfüllen zu können. Darüber hinausgehende Erfahrungen, die eventuell eine besondere Arbeitsleistung ermöglichen, sind hiermit nicht gemeint.
A46: Operationalisierung:
A47: Jahre der erforderlichen fachlichen Erfahrung
B48: Bitte Zahlenwert der zutreffenden Stufe eintragen.
A49: Stufen | B49: Definition der Stufen | C49: =Übersicht!D5 -> Tätigkeit
A50: 0 | B50: Nicht erforderlich
A51: 1 | B51: Erforderliche Erfahrung (Einarbeitungszeit) auf der Stelle von bis zu einem Jahr
A52: 2 | B52: Erforderliche Erfahrung (Einarbeitungszeit) auf der Stelle von mehr als einem Jahr
A53: 3 | B53: Erforderliche Vorerfahrung auf einer anderen Stelle oder bei einem anderen Arbeitgeber von bis zu drei Jahren sowie notwendige Einarbeitung auf der Stelle
...

Sheet Belastungen
A1: Belastungen
A3: 2.1 Physische Belastungen – Körperkraft
A5: Definition:
A6: Physische Belastungen durch Anforderungen an die Körperkraft liegen vor, wenn Gegenstände oder Personen gehoben, getragen oder bewegt werden müssen. Dabei ist das Gewicht der Gegenstände oder Personen nicht erheblich, sondern der Kraftaufwand, der eingesetzt werden muss, um den Gegenstand oder die Person zu heben, zu tragen oder zu bewegen. Beispiel: Um eine Tonne Stahl zu bewegen, ist ein vergleichsweise geringer Kraftaufwand erforderlich, wenn entsprechende Kräne und Kranbedienungsinstrumente genutzt werden können. Das Umbetten (hierzu gehören Heben, Bewegen, Stützen) von Patient*innen, die 70 kg wiegen, kann erheblich größeren Kraftaufwand bedeuten, selbst wenn Hilfsmittel genutzt werden. Was unter „ausnahmsweise“, „gelegentlich“ und „regelmäßig“ im konkreten Betrieb (beziehungsweise Unternehmen oder Branche) zu verstehen ist, muss vor der Bewertung festgelegt werden. Folgende Definition kann dabei als Leitlinie gelten: Regelmäßig = wiederkehrend in festen örtlichen oder zeitlichen Abständen, zum Beispiel täglich Gelegentlich = wiederkehrend in variablen oder vom Zufall abhängigen örtlichen oder zeitlichen Abständen, zum Beispiel dreimal im Monat Ausnahmsweise = zwar im Einzelfall vorkommend, zum Beispiel anlässlich eines besonderen Ereignisses, aber nicht charakteristisch für die Tätigkeit
A7: Operationalisierung:
A9: Kilogramm und Häufigkeit der Anforderung
B10: Bitte Zahlenwert der zutreffenden Stufe eintragen.
A11: Stufen | B11: Definition der Stufen | C11: =Übersicht!D5 -> Tätigkeit
A12: 0 | B12: Körperkraft ist nicht oder nur ausnahmsweise erforderlich.
A13: 1 | B13: Regelmäßiger Kraftaufwand von bis zu 10 kg ODER Gelegentlicher Kraftaufwand von mehr als 10 kg
A14: 2 | B14: Regelmäßiger Kraftaufwand von mehr als 10 kg
B15: Zutreffende Stufenwertzahl 2.1 | C15: =SUM(C10:C14) -> 0
A16: 2.2 Physische Belastungen – Körperhaltung, Bewegungsabläufe und Sinnesorgane
A18: Definition:
A19: Manche Tätigkeiten erfordern es, bestimmte Körperhaltungen dauerhaft einzunehmen und/oder bestimmte Bewegungen häufig bis ständig zu wiederholen. Gefordert ist mitunter auch Bewegungspräzision.
A21: Operationalisierung:
A22: Vorliegen der jeweiligen Anforderung
A23: (Es können maximal zwei Anforderungen in die Bewertung eingehen, um das Gewicht dieses Bewertungsaspekts zu begrenzen.)
B24: Bitte eine 1 eintragen, wenn die Anforderung typisch für diese Tätigkeit ist.
A25: Nr. | C25: =Übersicht!D5 -> Tätigkeit
A26: 2.2.1 | B26: Einseitige Körperhaltung Gemeint sind Körperhaltungen, die lange andauern und kaum durch andere abgelöst werden können, z. B. bei Montagearbeiten oder an Bildschirmarbeitsplätzen.
A27: 2.2.2 | B27: Einseitige Bewegungsabläufe Gemeint sind Bewegungsabläufe, die häufig wiederholt werden müssen (monotone Bewegungsabläufe).
A28: 2.2.3 | B28: Arbeitstätigkeit weitgehend stehend und/oder gehend Gemeint ist dauerhaftes Stehen oder Gehen, das nicht selbstbestimmt oder nur ausnahmsweise durch Sitzen unterbrochen werden kann.
A29: 2.2.4 | B29: Arbeitstätigkeit weitgehend sitzend Gemeint sind dauerhaft sitzende Tätigkeiten, die nicht selbstbestimmt oder nur ausnahmsweise durch Aufstehen unterbrochen werden können. (Belastungen an Bildschirmarbeitsplätzen, die selbstbestimmt verlassen werden können, werden unter 2.2.1 erfasst.)
A30: 2.2.5 | B30: Bewegungspräzision Gemeint ist das präzise (z. B. millimetergenaue) Bewegen oder Platzieren von Bedienungselementen oder Gegenständen, z. B. Lötarbeiten, schwierige Grafiken am PC, nicht aber das Bedienen einer Tastatur oder eines Kraftfahrzeugs.
A31: 2.2.6 | B31: Hohe Anforderungen an die Augen Die Augen werden über längere Zeit weitgehend ununterbrochen intensiv belastet, z. B. bei Überwachungstätigkeiten an Produktionsanlagen, der Messwerterfassung oder -beobachtung oder beim Nähen.
B32: Zutreffende Stufenwertzahl 2.2 (maximal erreichbare Punktzahl = 2) | C32: =IF(SUM(C26:C31)<=2,SUM(C26:C31),2) -> 0
A33: 2.3 Psychosoziale Belastungen
A35: Definitionen:
A36: Verschiedene Tätigkeiten können sich in psychosozialer Hinsicht belastend für die Stelleninhaber*innen auswirken. Sie können das psychische Wohlbefinden beeinträchtigen, negative Emotionen hervorrufen oder aber sozial schwierige oder unangenehme Situationen mit sich bringen.
A38: Operationalisierung:
A39: Vorliegen der jeweiligen psychosozialen Belastung
A40: (Es können maximal vier Belastungen in die Bewertung eingehen, um das Gewicht dieses Bewertungsaspekts zu begrenzen.)
B41: Bitte eine 1 eintragen, wenn die Anforderung typisch für diese Tätigkeit ist.
A42: Nr. | B42: Psychosoziale Belastung | C42: =Übersicht!D5 -> Tätigkeit
A43: 2.3.1 | B43: Mündliche Vermittlung unerwünschter Inhalte Regelmäßig erforderliche Vermittlung von Inhalten, die für den*die Empfänger*in unerwünscht und folgenschwer sind.
A44: 2.3.2 | B44: Eingeschränkte mündliche Kommunikation (isolierte Tätigkeit) Kommunikation ist während der Arbeitszeit ausschließlich über Funk oder Telefon oder sogar überhaupt nicht möglich.
A45: 2.3.3 | B45: Konfrontation mit negativen Gefühlen oder Widerständen Die Tätigkeit erzeugt bei den Kontaktpersonen negative Gefühle oder muss gegen deren Willen durchgesetzt werden.
A46: 2.3.4 | B46: Konfrontation mit Aggressionen, Übergriffen oder Gewalt Die Tätigkeit beinhaltet das Risiko, gewalttätigen oder verbalen Übergriffen ausgesetzt zu sein.
A47: 2.3.5 | B47: Zeitliche Restriktionen Arbeitsabläufe und Zeitraster sind kaum oder gar nicht beeinflussbar und müssen strikt eingehalten werden.
...

Sheet Verantwortung
A1: Anforderungen an Verantwortung
A3: 3.1 Ökonomische Verantwortung
A5: Definition:
A6: Ökonomische Verantwortung meint die Verantwortung für den materiellen oder finanziellen unternehmerischen Erfolg. Sie kann in der Verantwortung für den sorgfältigen und korrekten Umgang mit Budgets oder Maschinen bestehen. Verantwortung kann auch für eine qualitativ hochwertige Produkterstellung und die Gewährleistung von Produktsicherheit übernommen werden. Darüber hinaus kann eine Tätigkeit die Verantwortung für die Gestaltung und Einhaltung effizienter, umsatz- und auslastungsförderlicher Prozesse und Abläufe beinhalten.
A8: Operationalisierung:
A9: Vorliegen einer oder mehrerer Anforderungen an die genannten Verantwortungsbereiche
B10: Bitte Zahlenwert der zutreffenden Stufe eintragen.
A11: Stufen | B11: Definition der Stufen | C11: =Übersicht!D5 -> Tätigkeit
A12: 0 | B12: Keine ökonomische Verantwortung
A13: 1 | B13: Vorliegen von Verantwortung für einen der genannten Bereiche
A14: 2 | B14: Vorliegen von Verantwortung für zwei der genannten Bereiche
A15: 3 | B15: Vorliegen von Verantwortung für drei der genannten Bereiche
B16: Zutreffende Stufenwertzahl 3.1 | C16: =SUM(C11:C15) -> 0
A17: 3.2 Verantwortung für die Sicherheit anderer Personen
A19: Definition:
A20: Die Sicherheit anderer Personen kann sich auf ihre physische Unversehrtheit, ihre psychische Gesundheit und auf die Sicherheit von vertraulichen Daten beziehen. Verantwortung für die physische Gesundheit von anderen Personen kann zum Beispiel in den Bereichen Gesundheit, Ernährung oder Transport auftreten. Sie betrifft auch die körperliche Sicherheit von Personen, zum Beispiel in der Produktion. Verantwortung für die psychische Gesundheit umfasst soziale Prozesse innerhalb einer Arbeitsgruppe oder im Zusammenspiel mit einer Gruppe externer Kontaktpersonen. Gemeint ist auch die Rücksichtnahme auf die psychische Verfassung anderer Personen. Dies kann im Rahmen von Lern- und Erziehungsprozessen, bei therapeutischen (Heil-) Prozessen erforderlich werden, aber auch in jeder anderen, gruppendynamisch geprägten Situation. Die Sicherheit anderer Personen kann sich aber auch auf Daten und Informationen beziehen, die über bestimmte Personen und Sachverhalte bekannt sind und deren unsachgemäße Verbreitung Schaden anrichten würde.
A22: Operationalisierung:
A23: Vorliegen einer oder mehrerer Anforderungen an die genannten Verantwortungsbereiche
B24: Bitte Zahlenwert der zutreffenden Stufe eintragen.
A25: Stufen | B25: Definition der Stufen | C25: =Übersicht!D5 -> Tätigkeit
A26: 0 | B26: Keine Verantwortung für die physische und psychische Gesundheit und die Datensicherheit
A27: 1 | B27: Vorliegen von Verantwortung in einem der genannten Bereiche
A28: 2 | B28: Vorliegen von Verantwortung in zwei der genannten Bereiche
A29: 3 | B29: Vorliegen von Verantwortung in allen genannten Bereichen
B30: Zutreffende Stufenwertzahl 3.2 | C30: =SUM(C25:C29) -> 0
A31: 3.3 Verantwortung für die Arbeit anderer und für Führung
A33: Definition:
A34: Bei der Verantwortung für die Arbeit anderer kann es sich um die Verantwortung für Termine oder die Arbeitsorganisation anderer Personen handeln oder auch um die regelmäßige Begleitung von Qualifizierungsprozessen, zum Beispiel von Praktikant*innen, Studierenden und Auszubildenden. Ebenfalls fallen hierunter eine nicht nur vorübergehende Projektleitung, die Koordination einer ständigen, teilautonomen Arbeitsgruppe oder die Fachaufsicht über einen definierten fachlichen Bereich. Mit Führungsverantwortung sind sowohl die disziplinarische Führung von Mitarbeiter*innen als auch die Verantwortlichkeit für die Umsetzung von langfristigen, strategischen Zielen gemeint.
A36: Operationalisierung:
A37: Art der Verantwortung
B38: Bitte Zahlenwert der zutreffenden Stufe eintragen.
A39: Stufen | B39: Definition der Stufen | C39: =Übersicht!D5 -> Tätigkeit
A40: 0 | B40: Nicht erforderlich
A41: 1 | B41: Verantwortung für Termine und die Arbeitsorganisation anderer Personen sowie die regelmäßige Verantwortung für die Begleitung von Qualifizierungsprozessen
A42: 2 | B42: Verantwortung für die Projektleitung, Fachaufsicht, Koordination einer ständigen Arbeitsgruppe
A43: 3 | B43: Disziplinarische Führungsverantwortung für bis zu 20 Beschäftigte
A44: 4 | B44: Strategische Verantwortung oder disziplinarische Führungsverantwortung für mehr als 20 Beschäftigte
B45: Zutreffende Stufenwertzahl 3.3 | C45: =SUM(C40:C44) -> 0
A46: 3.4 Verantwortung für die Umwelt
A48: Definition:
...

Sheet Arbeitsbedingungen
A1: Arbeitsbedingungen
A3: 4.1 Belastende arbeitszeitliche Bedingungen
A5: Definition:
A6: Mit belastenden arbeitszeitlichen Bedingungen sind Arbeitszeiten gemeint, die sich durch ihre Lage oder ihre geringe Planbarkeit belastend auf den menschlichen Organismus auswirken. Dabei dürfen Arbeitszeitbedingungen hier nur berücksichtigt werden, soweit sie nicht anderweitig angemessen bewertet und bezahlt werden, zum Beispiel durch Zuschläge. Belastende arbeitszeitliche Bedingungen können Früh-, Spät- oder Nachtschichten sein, auch Bereitschaftsdienste und Wochenendarbeit zählen dazu. Belastend sind außerdem kurzfristig bekannt gegebene Arbeitspläne, die häufig zeitliche Abweichungen vom ursprünglichen Arbeitsplan beinhalten. Mit dieser Anforderung werden die geltenden Arbeitszeitmodelle angesprochen. Überstunden sind hiermit nicht gemeint. Darüber hinaus können auch Zeit- und Termindruck durch unverschiebbare und unvorhersehbare Termine oder durch außergewöhnlich hohen Arbeitsumfang und -dichte arbeitszeitliche Belastungen darstellen.
A8: Operationalisierung:
A9: Häufigkeit des Vorliegens von arbeitszeitlichen Belastungen
B10: Bitte Zahlenwert der zutreffenden Stufe eintragen.
A11: Stufen | B11: Definition der Stufen | C11: =Übersicht!D5 -> Tätigkeit
A12: 0 | B12: Liegt nicht vor bzw. ist nicht typisch für die Tätigkeit oder wird anderweitig durch Zulagen oder Zuschläge bezahlt
A13: 1 | B13: Kommt mehr als 3 x im Jahr vor
A14: 2 | B14: Kommt bis zu 3 x monatlich vor
A15: 3 | B15: Kommt ständig bzw. mindestens wöchentlich vor
B16: Zutreffende Stufenwertzahl 4.1 | C16: =SUM(C12:C15) -> 0
A19: 4.2 Beeinträchtigende Umgebungsbedingungen
A21: Definition:
A22: Manche Umgebungsbedingungen wirken sich für den Menschen körperlich beeinträchtigend oder belastend aus, sind aber untrennbar mit der Tätigkeit und der Umgebung, in der diese ausgeübt wird, verbunden. Beeinträchtigungen oder Belastungen, die durch eine nicht ordnungsgemäße Gestaltung oder eine zufällig vorhandene Arbeitsumgebung entstehen, sind hier nicht gemeint. Umgebungsbedingungen, die durch Zulagen oder Zuschläge entgolten werden, dürfen hier nicht (doppelt) bewertet werden.
A24: Operationalisierung:
A25: Vorliegen der Beeinträchtigung (Es können maximal vier Beeinträchtigungen in die Bewertung eingehen, um das Gewicht dieses Bewertungsaspekts zu begrenzen.)
B26: Bitte eine 1 eintragen, wenn die Anforderung typisch für diese Tätigkeit ist.
A27: Nr. | B27: Beeinträchtigende Umgebungsbedingungen | C27: =Übersicht!D5 -> Tätigkeit
A28: 4.2.1 | B28: Unfall- und/oder Ansteckungsgefährdung Gemeint ist eine Gefahr, die über das übliche Maß hinausgeht, z. B. bei der Arbeit in öffentlichen Räumen.
A29: 4.2.2 | B29: Schädigende chemische Substanzen und/oder Luftverschmutzung Gemeint sind z. B. Putzmittel, Säuren und Farben sowie Feinstaub.
A30: 4.2.3 | B30: Lärm Gemeint ist starker Lärm, der absolut eine Belastung darstellt, z. B. durch bestimmte Maschinen, aber auch Lärm, der die Konzentration beeinträchtigt, z. B. durch andere Menschen oder Druckergeräusche im Büro.
A31: 4.2.4 | B31: Kälte und/oder Hitze Gemeint sind sowohl eine regelmäßige und tätigkeitsbezogene Belastung durch Kälte und/oder Hitze als auch häufige Temperaturschwankungen. „Zufällige“ Belastungen, z. B. durch schlecht klimatisierte Räume, sind hier nicht gemeint.
A32: 4.2.5 | B32: Zugluft Gemeint ist eine regelmäßige und tätigkeitsbezogene Belastung durch Zugluft. „Zufällige“ Belastungen, z. B. durch nicht ordnungsgemäß gestaltete Räume, sind hier nicht gemeint.
A33: 4.2.6 | B33: Nässe Gemeint ist eine regelmäßige und tätigkeitsbezogene Belastung durch Nässe.
A34: 4.2.7 | B34: Dämpfe und/oder Staub Gemeint sind auch unschädliche Dämpfe, wie z. B. Wasserdampf.
A35: 4.2.8 | B35: Vibrationen Gemeint sind z. B. Vibrationen, die beim Bedienen bestimmter Maschinen auftreten.
A36: 4.2.9 | B36: Unangenehme Gerüche Schwierig zu objektivierende Belastung, nachvollziehbar vorhanden z. B. in der Kranken- und Altenpflege oder bei bestimmten Tätigkeiten in der Abfallverwertung.
A37: 4.2.10 | B37: Spezielle Hygienevorschriften Gemeint sind Belastungen durch notwendige Schutzmaßnahmen, um sich selbst oder andere vor Infektionen oder Verschmutzungen zu schützen.
A38: 4.2.11 | B38: Andere belastende Umgebungsbedingungen Spezielle Umgebungsbedingungen, die noch nicht aufgelistet wurden, nämlich:
B42: Zutreffende Stufenwertzahl 4.2 (maximal erreichbare Punktzahl = 4) | C42: =IF(SUM(C28:C41)<=4,SUM(C28:C41),4) -> 0
A45: 4.3 Belastende Einflüsse durch technologische Transformationsprozesse
A47: Definition:
A48: Belastende Einflüsse durch technologische Transformationsprozesse und die mit ihnen verbundenen Veränderungen können im Hinblick auf unterschiedliche Anforderungen entstehen, zum Beispiel durch die Anwendung digitaler Arbeitsmittel, aber auch Änderungen im Arbeitsablauf. Was unter der jeweiligen Belastung verstanden wird, wird in der Tabelle definiert.
A50: Operationalisierung:
A51: Vorliegen der Belastung (Es können maximal drei Belastungen in die Bewertung eingehen, um das Gewicht dieses Bewertungsaspekts zu begrenzen.)
B52: Bitte eine 1 eintragen, wenn die Anforderung typisch für diese Tätigkeit ist.
A53: Nr.
A54: 4.3.1 | B54: Hohe Frequenz von Veränderungen Die technologische Transformation bringt technische, aber auch organisatorische und kulturelle Veränderungen mit sich. Wenn die Frequenz von Veränderungen so hoch ist, dass keine entlastenden Gewöhnungseffekte entstehen, sondern eine ständige Anpassung an Veränderungen erforderlich ist, stellt dies eine besondere Anforderung dar, die hier gemeint ist.
...
