Workbook
Name Name: Arbeitsbedingungen!#REF!
Name Name: Belastungen!#REF!
Name Name: Kompetenzen!#REF!
Name Name: Übersicht!#REF!
Name Name: Verantwortung!#REF!
Name Name: #REF!
Name OLE_LINK1: Arbeitsbedingungen!#REF!
Name OLE_LINK1: Belastungen!#REF!
Name OLE_LINK1: Kompetenzen!#REF!
Name OLE_LINK1: Verantwortung!#REF!
Name RegelungscheckStufensteigerungen: Arbeitsbedingungen!#REF!
Name RegelungscheckStufensteigerungen: Belastungen!#REF!
Name RegelungscheckStufensteigerungen: Kompetenzen!#REF!
Name RegelungscheckStufensteigerungen: Übersicht!#REF!
Name RegelungscheckStufensteigerungen: Verantwortung!#REF!

Sheet Übersicht
A2: Entgeltgleichheit prüfen mit EG-Check: GleichWertCheck
A3: Mithilfe des GleichWertChecks kann ermittelt werden, wie hoch die Anforderungen einer Stelle oder Tätigkeit sind. Wenn Sie den GleichWertCheck mehrfach durchführen, können Sie die Höhe der Anforderungen an unterschiedlichen Stellen miteinander vergleichen. Dadurch stellen Sie fest, ob beziehungsweise welche Stellen von ihren Anforderungen her gleichwertig sind und deshalb gleich vergütet werden müssen. Nutzen Sie hierfür die Vergleichsübersicht Gleichwertigkeit. Bitte beachten Sie: Der hier zur Verfügung gestellte GleichWertCheck dient lediglich Prüfzwecken, das heißt, er stellt kein umfassendes Verfahren zur Neubewertung von Tätigkeiten dar. Er kann aber als Grundlage für ein betriebliches oder tarifliches Entgeltsystem dienen.
A4: Hinweise zum Ausfüllen des GleichWertChecks: Bitte füllen Sie zunächst die gelb unterlegten Felder für die betrachtete Stelle aus (Bezeichnung, aktuelle Eingruppierung, Frauenanteil an den Stelleninhaber*innen). Die Bewertung der Anforderungen nehmen Sie in den entsprechenden Feldern der nachfolgenden Arbeitsblätter für Kompetenzen, Belastungen, Verantwortung und Arbeitsbedingungen vor. In diesen Arbeitsblättern werden die verschiedenen Anforderungen definiert. Die möglichen Ausprägungsstufen jeder Anforderung werden aufgelistet und einem Wert zugeordnet. Bitte tragen Sie in allen vier Arbeitsblättern die jeweils zutreffende Anforderungshöhe (beziehungsweise Ausprägungsstufe) in die Spalte für die Bewertung ein. Dabei wird meist der Zahlenwert der zutreffenden Ausprägungsstufe eingetragen. In den Arbeitsblättern für Belastungen und Arbeitsbedingungen gilt in manchen Fällen, dass für jede zutreffende Belastung eine 1 in die Spalte für die Bewertung einzutragen ist. Wenn dies der Fall ist, wird darauf hingewiesen. Die eingetragenen Werte übertragen sich automatisch in die Übersicht in diesem Arbeitsblatt und addieren sich zu einer Gesamtsumme. Die Gesamtsumme gibt die Höhe der Anforderungen an und errmöglicht einen Vergleich mit der Anforderungshöhe an anderen Stellen.
A5: Ergebnisse des GleichWertChecks für die Tätigkeit: | D5: Tätigkeit
A6: Aktuelle Eingruppierung: | C6: Bitte eintragen | D6: Anteil weiblicher Stelleninhaber*innen in %: | F6: Bitte eintragen
A7: 1. | B7: Anforderungen an Kompetenzen | D7: 2. | E7: Belastungen
A8: 1.1 | B8: Fachkenntnisse und Fertigkeiten | C8: =Kompetenzen!C19 -> 0 | D8: 2.1 | E8: Physische Belastungen – Körperkraft | F8: =Belastungen!C15 -> 0
A9: 1.2 | B9: Zusatzqualifikationen | C9: =Kompetenzen!C33 -> 0 | D9: 2.2 | E9: Physische Belastungen – Körperhaltung, Bewegungsabläufe und Sinnesorgane | F9: =Belastungen!C32 -> 0
A10: 1.3 | B10: Fachliche Erfahrung in der Praxis | C10: =Kompetenzen!C55 -> 0 | D10: 2.3 | E10: Psychosoziale Belastungen | F10: =Belastungen!C56 -> 0
A11: 1.4 | B11: Planungs- und Prozesskompetenz | C11: =Kompetenzen!C70 -> 0 | D11: 2.4 | E11: Mentale Belastungen: Bewältigen von tätigkeitsbedingten Arbeitsunterbrechungen | F11: =Belastungen!C69 -> 0
A12: 1.5 | B12: Kommunikationskompetenz | C12: =Kompetenzen!C85 -> 0 | D12: 2.5 | E12: Mentale Belastungen: ununterbrochene Aufmerksamkeit und Konzentration | F12: =Belastungen!C82 -> 0
A13: 1.6 | B13: Kooperationskompetenz | C13: =Kompetenzen!C99 -> 0
A14: 1.7 | B14: Einfühlungs- und Überzeugungsvermögen | C14: =Kompetenzen!C113 -> 0
B15: Zwischensumme 1. | C15: =SUM(C8:C14) -> 0 | E15: Zwischensumme 2. | F15: =SUM(F8:F14) -> 0
A16: 3. | B16: Anforderungen an Verantwortung | D16: 4. | E16: Arbeitsbedingungen
A17: 3.1 | B17: Ökonomische Verantwortung | C17: =Verantwortung!C16 -> 0 | D17: 4.1 | E17: Belastende arbeitszeitliche Bedingungen | F17: =Arbeitsbedingungen!C16 -> 0
A18: 3.2 | B18: Verantwortung für die Sicherheit anderer Personen | C18: =Verantwortung!C30 -> 0 | D18: 4.2 | E18: Beeinträchtigende Umgebungsbedingungen | F18: =Arbeitsbedingungen!C42 -> 0
A19: 3.3 | B19: Verantwortung für die Arbeit anderer und für Führung | C19: =Verantwortung!C45 -> 0 | D19: 4.3 | E19: Belastende Einflüsse durch technologische Transformationsprozesse | F19: =Arbeitsbedingungen!C62 -> 0
A20: 3.4 | B20: Verantwortung für die Umwelt | C20: =Verantwortung!C58 -> 0 | F20: =Arbeitsbedingungen!C43 -> 0
A21: 3.5 | B21: Verantwortung für die eigene Qualifizierung | C21: =Verantwortung!C73 -> 0
B22: Zwischensumme 3. | C22: =SUM(C16:C21) -> 0 | E22: Zwischensumme 4. | F22: =SUM(F16:F21) -> 0
A23: Anforderungshöhe der Stelle (Gesamtsumme der Stufenzahlen aus 1. bis 4.) | F23: =C15+F15+C22+F22 -> 0

Sheet Kompetenzen
A1: Anforderungen an Kompetenzen
A3: 1.1 Fachkenntnisse und Fertigkeiten
A5: Definitionen:
A6: Fachkenntnisse sind fachbezogenes Grundwissen (Fakten, Grundsätze, Theorien und Praxis), das zur Ausübung der Tätigkeiten erforderlich ist. Fertigkeiten sind erforderliche kognitive (Denkvermögen) und praktische (Geschicklichkeit) Fähigkeiten, das Wissen anzuwenden. Die erforderlichen Fachkenntnisse und Fertigkeiten können durch einen formalen Ausbildungsabschluss oder anderweitig erworben worden sein (zum Beispiel Kurse, Selbststudium, berufliche Praxis oder kollegialer Austausch).
A8: Operationalisierung:
A9: Dauer und Art der erforderlichen beruflichen Ausbildung sowie Zuordnung zu den Niveaus 3 bis 8 des Deutschen Qualifikationsrahmens (DQR) Link: Download DQR-Liste der zugeordneten Qualifikationen_2024
B10: Bitte Zahlenwert der zutreffenden Stufe eintragen.
A11: Stufen | B11: Definition der Stufen | C11: =Übersicht!D5 -> Tätigkeit
A12: 1 | B12: Fachkenntnisse und Fertigkeiten, die durch Einarbeitung erworben werden
A13: 2 | B13: Fachkenntnisse und Fertigkeiten, die dem Niveau 3 des DQR zugeordnet sind: 2-jährige berufliche Ausbildungen und mittlere Schulabschlüsse an Berufsfachschulen
A14: 3 | B14: Fachkenntnisse und Fertigkeiten, die dem Niveau 4 des DQR zugeordnet sind: 3- bis 3,5-jährige duale Berufsausbildungen sowie (vollqualifizierende) Berufsausbildungen an Berufsfachschulen
A15: 4 | B15: Fachkenntnisse und Fertigkeiten, die dem Niveau 5 des DQR zugeordnet sind: (zertifizierte*r) IT-Spezialist*in, (geprüfte*r) Servicetechniker*in sowie sonstige berufliche Fortbildungsqualifikationen nach §§ 53, 54 BBiG und §§ 42, 42a HwO
A16: 5 | B16: Fachkenntnisse und Fertigkeiten, die dem Niveau 6 des DQR zugeordnet sind: Bachelorabschlüsse, geprüfte Fachkaufleute und Fachwirt*innen, Meister*innen, (geprüfte) operative Professionals, staatlich geprüfte Fachschulabschlüsse, sonstige berufliche Fortbildungsqualifikationen nach §§ 53, 54 BBiG und §§ 42, 42a HwO
A17: 6 | B17: Fachkenntnisse und Fertigkeiten, die dem Niveau 7 des DQR zugeordnet sind: Masterabschlüsse, (geprüfte) strategische Professionals, sonstige berufliche Fortbildungsqualifikationen nach §§ 53, 54 BBiG und §§ 42, 42a HwO
A18: 7 | B18: Fachkenntnisse und Fertigkeiten, die dem Niveau 8 des DQR zugeordnet sind: Doktorat, äquivalente künstlerische Abschlüsse
B19: Zutreffende Stufenwertzahl 1.1 | C19: =SUM(C12:C18) -> 0
A20: 1.2 Zusatzqualifikationen
A22: Definition:
A23: Zusatzqualifikationen sind zusätzliches fachliches und unternehmensbezogenes Wissen, das zur Ausübung der Tätigkeit erforderlich ist. Hier dürfen nur Qualifikationen berücksichtigt werden, die nicht bereits unter 1.1 bewertet wurden. Es kann sich beispielsweise um fachliche Kompetenzen in den Bereichen Technologie, Materialkunde, Informationstechnik, Rechtsgrundlagen oder um methodische oder betriebswirtschaftliche Kenntnisse handeln. Unternehmensbezogene Kompetenzen beinhalten unternehmensspezifische Kenntnisse von Produkten, Projekten und Prozessen. Die Zusatzqualifikation kann auf unterschiedlichen Wegen erworben werden, zum Beispiel durch Kurse, Selbststudium, berufliche Praxis oder kollegialen Austausch.
A25: Operationalisierung:
A26: Inhalt und Verfügbarkeit der erforderlichen Zusatzqualifikationen
B27: Bitte Zahlenwert der zutreffenden Stufe eintragen.
A28: Stufen | B28: Definition der Stufen | C28: =Übersicht!D5 -> Tätigkeit
A29: 0 | B29: Nicht erforderlich
A30: 1 | B30: Unternehmensspezifische Kenntnisse, die den eigenen Arbeitsbereich betreffen können, aber auch abteilungsübergreifende oder das gesamte Unternehmen umfassende Kenntnisse sein können
A31: 2 | B31: Fachliche Kenntnisse, die über die Fachkenntnisse und Fertigkeiten hinausgehen, die in der erforderlichen Ausbildung erworben wurden
A32: 3 | B32: Spezialkenntnisse, die nicht allgemein verfügbar sind, sondern speziell für die Tätigkeit recherchiert oder entwickelt werden müssen
B33: Zutreffende Stufenwertzahl 1.2 | C33: =SUM(C29:C32) -> 0
A35: Bezeichnung der erforderlichen Zusatzqualifikation(en):
A41: 1.3 Fachliche Erfahrung in der Praxis
A43: Definition:
A44: Die fachliche Erfahrung meint praktische Arbeitserfahrungen, die erforderlich sind, um die Tätigkeiten in der erwarteten Qualität ausüben zu können („Einarbeitungszeit auf der Stelle“). Darüber hinaus kann es erforderlich sein, bereits ähnliche oder identische Tätigkeiten (auch bei einem anderen Arbeitgeber) vor Antritt der betrachteten Stelle ausgeübt zu haben, um die Anforderungen der Stelle erfüllen zu können. Darüber hinausgehende Erfahrungen, die eventuell eine besondere Arbeitsleistung ermöglichen, sind hiermit nicht gemeint.
A46: Operationalisierung:
A47: Jahre der erforderlichen fachlichen Erfahrung
B48: Bitte Zahlenwert der zutreffenden Stufe eintragen.
A49: Stufen | B49: Definition der Stufen | C49: =Übersicht!D5 -> Tätigkeit
A50: 0 | B50: Nicht erforderlich
A51: 1 | B51: Erforderliche Erfahrung (Einarbeitungszeit) auf der Stelle von bis zu einem Jahr
A52: 2 | B52: Erforderliche Erfahrung (Einarbeitungszeit) auf der Stelle von mehr als einem Jahr
A53: 3 | B53: Erforderliche Vorerfahrung auf einer anderen Stelle oder bei einem anderen Arbeitgeber von bis zu drei Jahren sowie notwendige Einarbeitung auf der Stelle
A54: 4 | B54: Erforderliche Vorerfahrung auf einer anderen Stelle oder bei einem anderen Arbeitgeber von mehr als drei Jahren sowie notwendige Einarbeitung auf der Stelle
B55: Zutreffende Stufenwertzahl 1.3 | C55: =SUM(C50:C54) -> 0
A56: 1.4 Planungs- und Prozesskompetenz
A58: Definition:
A59: Anforderungen an die Planungs- und Prozesskompetenz meinen die erforderlichen Fähigkeiten, die Erledigung mehrerer Aufgaben vorausschauend zu planen und selbstständig zu organisieren. Dabei können die zu planenden Prozesse und Arbeitsabläufe einfach oder komplex sein, beispielsweise in Bezug auf die Anzahl der beteiligten Personen und Abteilungen, erforderliche Freigaben und Freigabekriterien, die Anzahl der Prozessschritte, die Anzahl von Entscheidungen und zu beachtende Qualitätskriterien. Die Anforderungen an die Planungs- und Prozesskompetenz steigen, wenn sich Rahmenbedingungen der Planung ändern und flexibel mit Planänderungen reagiert werden muss.
A61: Operationalisierung:
A62: Handlungsspielraum bei der Planung und Komplexität der Prozesse und Arbeitsabläufe
B63: Bitte Zahlenwert der zutreffenden Stufe eintragen.
A64: Stufen | B64: Definition der Stufen | C64: =Übersicht!D5 -> Tätigkeit
A65: 0 | B65: Kein selbstständiges Planen von Prozessen und Arbeitsabläufen, Übernahme von klaren und eindeutigen Vorgaben (kein Handlungsspielraum)
A66: 1 | B66: Selbstständiges Planen und Umplanen von einfachen, überschaubaren Prozessen und Arbeitsabläufen, deren Rahmenbedingungen sich im Regelfall nicht ändern Handlungsspielraum in geringem Maß
A67: 2 | B67: Ausführen von komplexen Prozessen und Arbeitsabläufen Kein Handlungsspielraum, jedoch hohe Komplexität ODER Selbstständiges Planen und Umplanen von einfachen, überschaubaren Prozessen und Arbeitsabläufen, deren Rahmenbedingungen sich häufig ändern Handlungsspielraum in geringem Maß und Flexibilität der Planung
A68: 3 | B68: Selbstständiges Planen und Umplanen von komplexen Prozessen und Arbeitsabläufen Umfassender Handlungsspielraum
A69: 4 | B69: Selbstständiges Planen und Umplanen von komplexen Prozessen und Arbeitsabläufen, deren Rahmenbedingungen sich häufig ändern Umfassender Handlungsspielraum und Flexibilität der Planung
B70: Zutreffende Stufenwertzahl 1.4 | C70: =SUM(C65:C69) -> 0
A71: 1.5 Kommunikationskompetenz
A73: Definition:
A74: Kommunikationskompetenz ist die Fähigkeit, mit Kund*innen, Patient*innen oder Klient*innen mündlich und/oder schriftlich zu kommunizieren. Dabei ist es erforderlich, die Inhalte verständlich darzustellen und dabei das Vorverständnis der Personen, mit denen kommuniziert wird, zu berücksichtigen. Unter Umständen muss der zu vermittelnde Inhalt in eine adressatengerechte Sprache „übersetzt“ und/oder situationsbezogen gestaltet werden. Inhalte: Es kann sich zum Beispiel um einfache Auskünfte handeln, die keine besonderen Denkanforderungen stellen und von den Kommunikationspartner*innen problemlos verstanden werden können. Die Inhalte können aber auch komplex sein, dann müssen die zu vermittelnden Informationen bewusst und präzise gestaltet werden und ihre Vermittlung muss durchdacht sein. Adressatengerechte Vermittlung: Die Voraussetzungen der Kommunikationspartner*innen unterscheiden sich zum Beispiel nach dem Bildungsstand, den Sprachkenntnissen, aber auch kulturellen Prägungen. Es kann zum Beispiel erforderlich sein, fachlich komplexe Inhalte in eine einfach verständliche Sprache zu übersetzen oder aber sich einer spezifischen Fachsprache zu bedienen, um als Kommunikationspartner*in anerkannt zu werden. Besondere Situation: Es gibt Kommunikationssituationen, in denen besondere Sorgfalt angewandt werden muss, weil auf die Wirkung der Kommunikation in besonderer Weise zu achten ist oder die Aussagen nicht revidierbar (zum Beispiel vor Gerichten, bei Presseauftritten) und folgenreich (zum Beispiel für das Image des Unternehmens oder der Verwaltung) sind.
A76: Operationalisierung:
A77: Schwierigkeit der zu kommunizierenden Inhalte und Notwendigkeit der adressaten- und situationsgerechten Vermittlung
B78: Bitte Zahlenwert der zutreffenden Stufe eintragen.
A79: Stufen | B79: Definition der Stufen | C79: =Übersicht!D5 -> Tätigkeit
A80: 0 | B80: Keine oder selten Anforderungen an die mündliche Kommunikation
A81: 1 | B81: Vermittlung einfacher Inhalte (z. B. einfache Auskünfte), die auch für die Kommunikationspartner*innen leicht verständlich sind
A82: 2 | B82: Vermittlung einfacher Inhalte, deren Formulierung durchdacht und adressatengerecht sein muss
A83: 3 | B83: Vermittlung komplexer Inhalte, deren Formulierung durchdacht und adressatengerecht sein muss
A84: 4 | B84: Vermittlung komplexer Inhalte, deren Formulierung durchdacht und adressatengerecht sein muss, in einer besonderen Situation
B85: Zutreffende Stufenwertzahl 1.5 | C85: =SUM(C80:C84) -> 0
A86: 1.6 Kooperationskompetenz
A88: Definition:
A89: Kooperationskompetenz meint die Anforderung, mit anderen gemeinsam eine Aufgabe zu planen oder auszuführen. Unter gemeinsamer Planung wird hier die notwendige Absprache in einem Arbeitsteam verstanden, durch die Arbeitsabläufe gesichert, Teilaufgaben und Zuständigkeiten aufgeteilt sowie Termine zur Fertigstellung abgestimmt werden. Die Arbeit in Projektgruppen bedeutet das gemeinsame Arbeiten an einem Projektziel oder einer Projektaufgabe, unter Beteiligung verschiedener Fachkompetenzen und unter Nutzung verschiedener prozessbezogener und technischer Methoden (zum Beispiel präsente, hybride oder digitale Treffen, agile Teams, digitale Arbeit an einem gemeinsamen Dokument). Nicht gemeint ist die Zusammenarbeit zwischen Mitarbeitenden und Führungskräften.
A91: Operationalisierung:
A92: Gemeinsame Planung oder Ausführung von Tätigkeiten und Zeitanteil der erforderlichen Kooperation
B93: Bitte Zahlenwert der zutreffenden Stufe eintragen.
A94: Stufen | B94: Definition der Stufen | C94: =Übersicht!D5 -> Tätigkeit
A95: 0 | B95: Grundlegende Fähigkeiten für eine konstruktive Zusammenarbeit im Arbeitsalltag
A96: 1 | B96: Gemeinsame Planung von Arbeiten durch Aufteilung von Teilaufgaben und Zuständigkeiten und Abstimmen von Terminen zur Fertigstellung („Teamarbeit“)
A97: 2 | B97: Gemeinsame Ausführung von Arbeiten in einer Projektgruppe unter Anwendung prozessbezogener oder technischer Methoden, mit einem zeitlichen Anteil bis zu 50 % der Arbeitszeit
A98: 3 | B98: Gemeinsame Ausführung von Arbeiten in einer Projektgruppe unter Anwendung prozessbezogener oder technischer Methoden, mit einem zeitlichen Anteil von mehr als 50 % der Arbeitszeit
B99: Zutreffende Stufenwertzahl 1.6 | C99: =SUM(C95:C98) -> 0
A100: 1.7 Einfühlungs- und Überzeugungsvermögen
A102: Einfühlungsvermögen meint die Notwendigkeit, Situationen und Empfindungen anderer Personen (Kund*innen, Klient*innen) nachvollziehen und verstehen zu können. Eine Situation ist hinsichtlich des Einfühlungsvermögens umso schwieriger, je weniger vertraut und je verschiedenartiger die Situationen und Empfindungen der anderen Personen sind. Einfach sind Situationen dann, wenn die Situation aus eigener Erfahrung bekannt ist. Schwierig sind Situationen, wenn sie sich nur aufgrund eigener Vorstellungskraft einschätzen lassen. Außergewöhnlich schwierig ist eine Sitation, die gegen die eigene Überzeugung steht und für die eigene Person weder als wünschenswert noch als möglich betrachtet wird.
A103: Überzeugungsvermögen meint die Fähigkeit, zu argumentieren und andere Personen von der Richtigkeit einer bestimmten Handlung, Sichtweise oder Position zu überzeugen. Eine Situation ist hinsichtlich des Überzeugungsvermögens umso schwieriger, je konfliktträchtiger das zu behandelnde Thema ist und je weiter sich die ursprünglichen Handlungen, Sichtweisen und Positionen voneinander unterscheiden. Einfach sind Situationen dann, wenn mit einfachen, sachbezogenen Argumenten überzeugt werden kann. Schwierig sind Situationen dann, wenn die Standpunkte unterschiedlich sind und schwierige Argumentationen erfordern. Außergewöhnlich schwierig sind Situationen, in denen Standpunkte einander konträr gegenüberstehen, weil sie sich logisch ausschließen oder mit grundsätzlichen Überzeugungen oder persönlicher emotionaler Betroffenheit verbunden sind.
A105: Operationalisierung:
A106: Vorliegen der Anforderungen
B107: Bitte Zahlenwert der zutreffenden Stufe eintragen.
A108: Stufen | B108: Definition der Stufen | C108: =Übersicht!D5 -> Tätigkeit
A109: 0 | B109: Beides nicht erforderlich
A110: 1 | B110: Einfühlungsvermögen ODER Überzeugungsvermögen in einfachen Situationen erforderlich
A111: 2 | B111: Einfühlungsvermögen und Überzeugungsvermögen in einfachen Situationen erforderlich ODER Einfühlungsvermögen oder Überzeugungsvermögen in schwierigen Situationen erforderlich
A112: 3 | B112: Einfühlungsvermögen und Überzeugungsvermögen in schwierigen Situationen erforderlich ODER Einfühlungsvermögen und/oder Überzeugungsvermögen in außergewöhnlich schwierigen Situationen erforderlich
B113: Zutreffende Stufenwertzahl 1.7 | C113: =SUM(C109:C112) -> 0

Sheet Belastungen
A1: Belastungen
A3: 2.1 Physische Belastungen – Körperkraft
A5: Definition:
A6: Physische Belastungen durch Anforderungen an die Körperkraft liegen vor, wenn Gegenstände oder Personen gehoben, getragen oder bewegt werden müssen. Dabei ist das Gewicht der Gegenstände oder Personen nicht erheblich, sondern der Kraftaufwand, der eingesetzt werden muss, um den Gegenstand oder die Person zu heben, zu tragen oder zu bewegen. Beispiel: Um eine Tonne Stahl zu bewegen, ist ein vergleichsweise geringer Kraftaufwand erforderlich, wenn entsprechende Kräne und Kranbedienungsinstrumente genutzt werden können. Das Umbetten (hierzu gehören Heben, Bewegen, Stützen) von Patient*innen, die 70 kg wiegen, kann erheblich größeren Kraftaufwand bedeuten, selbst wenn Hilfsmittel genutzt werden. Was unter „ausnahmsweise“, „gelegentlich“ und „regelmäßig“ im konkreten Betrieb (beziehungsweise Unternehmen oder Branche) zu verstehen ist, muss vor der Bewertung festgelegt werden. Folgende Definition kann dabei als Leitlinie gelten: Regelmäßig = wiederkehrend in festen örtlichen oder zeitlichen Abständen, zum Beispiel täglich Gelegentlich = wiederkehrend in variablen oder vom Zufall abhängigen örtlichen oder zeitlichen Abständen, zum Beispiel dreimal im Monat Ausnahmsweise = zwar im Einzelfall vorkommend, zum Beispiel anlässlich eines besonderen Ereignisses, aber nicht charakteristisch für die Tätigkeit
A7: Operationalisierung:
A9: Kilogramm und Häufigkeit der Anforderung
B10: Bitte Zahlenwert der zutreffenden Stufe eintragen.
A11: Stufen | B11: Definition der Stufen | C11: =Übersicht!D5 -> Tätigkeit
A12: 0 | B12: Körperkraft ist nicht oder nur ausnahmsweise erforderlich.
A13: 1 | B13: Regelmäßiger Kraftaufwand von bis zu 10 kg ODER Gelegentlicher Kraftaufwand von mehr als 10 kg
A14: 2 | B14: Regelmäßiger Kraftaufwand von mehr als 10 kg
B15: Zutreffende Stufenwertzahl 2.1 | C15: =SUM(C10:C14) -> 0
A16: 2.2 Physische Belastungen – Körperhaltung, Bewegungsabläufe und Sinnesorgane
A18: Definition:
A19: Manche Tätigkeiten erfordern es, bestimmte Körperhaltungen dauerhaft einzunehmen und/oder bestimmte Bewegungen häufig bis ständig zu wiederholen. Gefordert ist mitunter auch Bewegungspräzision.
A21: Operationalisierung:
A22: Vorliegen der jeweiligen Anforderung
A23: (Es können maximal zwei Anforderungen in die Bewertung eingehen, um das Gewicht dieses Bewertungsaspekts zu begrenzen.)
B24: Bitte eine 1 eintragen, wenn die Anforderung typisch für diese Tätigkeit ist.
A25: Nr. | C25: =Übersicht!D5 -> Tätigkeit
A26: 2.2.1 | B26: Einseitige Körperhaltung Gemeint sind Körperhaltungen, die lange andauern und kaum durch andere abgelöst werden können, z. B. bei Montagearbeiten oder an Bildschirmarbeitsplätzen.
A27: 2.2.2 | B27: Einseitige Bewegungsabläufe Gemeint sind Bewegungsabläufe, die häufig wiederholt werden müssen (monotone Bewegungsabläufe).
A28: 2.2.3 | B28: Arbeitstätigkeit weitgehend stehend und/oder gehend Gemeint ist dauerhaftes Stehen oder Gehen, das nicht selbstbestimmt oder nur ausnahmsweise durch Sitzen unterbrochen werden kann.
A29: 2.2.4 | B29: Arbeitstätigkeit weitgehend sitzend Gemeint sind dauerhaft sitzende Tätigkeiten, die nicht selbstbestimmt oder nur ausnahmsweise durch Aufstehen unterbrochen werden können. (Belastungen an Bildschirmarbeitsplätzen, die selbstbestimmt verlassen werden können, werden unter 2.2.1 erfasst.)
A30: 2.2.5 | B30: Bewegungspräzision Gemeint ist das präzise (z. B. millimetergenaue) Bewegen oder Platzieren von Bedienungselementen oder Gegenständen, z. B. Lötarbeiten, schwierige Grafiken am PC, nicht aber das Bedienen einer Tastatur oder eines Kraftfahrzeugs.
A31: 2.2.6 | B31: Hohe Anforderungen an die Augen Die Augen werden über längere Zeit weitgehend ununterbrochen intensiv belastet, z. B. bei Überwachungstätigkeiten an Produktionsanlagen, der Messwerterfassung oder -beobachtung oder beim Nähen.
B32: Zutreffende Stufenwertzahl 2.2 (maximal erreichbare Punktzahl = 2) | C32: =IF(SUM(C26:C31)<=2,SUM(C26:C31),2) -> 0
A33: 2.3 Psychosoziale Belastungen
A35: Definitionen:
A36: Verschiedene Tätigkeiten können sich in psychosozialer Hinsicht belastend für die Stelleninhaber*innen auswirken. Sie können das psychische Wohlbefinden beeinträchtigen, negative Emotionen hervorrufen oder aber sozial schwierige oder unangenehme Situationen mit sich bringen.
A38: Operationalisierung:
A39: Vorliegen der jeweiligen psychosozialen Belastung
A40: (Es können maximal vier Belastungen in die Bewertung eingehen, um das Gewicht dieses Bewertungsaspekts zu begrenzen.)
B41: Bitte eine 1 eintragen, wenn die Anforderung typisch für diese Tätigkeit ist.
A42: Nr. | B42: Psychosoziale Belastung | C42: =Übersicht!D5 -> Tätigkeit
A43: 2.3.1 | B43: Mündliche Vermittlung unerwünschter Inhalte Regelmäßig erforderliche Vermittlung von Inhalten, die für den*die Empfänger*in unerwünscht und folgenschwer sind.
A44: 2.3.2 | B44: Eingeschränkte mündliche Kommunikation (isolierte Tätigkeit) Kommunikation ist während der Arbeitszeit ausschließlich über Funk oder Telefon oder sogar überhaupt nicht möglich.
A45: 2.3.3 | B45: Konfrontation mit negativen Gefühlen oder Widerständen Die Tätigkeit erzeugt bei den Kontaktpersonen negative Gefühle oder muss gegen deren Willen durchgesetzt werden.
A46: 2.3.4 | B46: Konfrontation mit Aggressionen, Übergriffen oder Gewalt Die Tätigkeit beinhaltet das Risiko, gewalttätigen oder verbalen Übergriffen ausgesetzt zu sein.
A47: 2.3.5 | B47: Zeitliche Restriktionen Arbeitsabläufe und Zeitraster sind kaum oder gar nicht beeinflussbar und müssen strikt eingehalten werden.
A48: 2.3.6 | B48: Konfrontation mit Problemen und Leid anderer Die Tätigkeit beinhaltet Kontakt zu Personen mit z. B. schweren Krankheiten, psychosozialen Problemen oder Todesfällen.
A49: 2.3.7 | B49: Konfrontation mit ekelerregenden oder abstoßenden Situationen Nachvollziehbar vorhanden beim Umgang mit Fäkalien, entstellten Leichen oder schwersten Verletzungen.
A50: 2.3.8 | B50: Bewusst gesteuerte Umgangsformen Die Tätigkeit erfordert es, die eigene momentane Situation und Gefühlslage auszublenden und sich gleichbleibend freundlich und zuvorkommend zu verhalten.
A51: 2.3.9 | B51: Erreichbarkeit außerhalb der Arbeitszeit Die Tätigkeit bringt es mit sich, auch außerhalb der Arbeitszeit erreichbar zu sein, um berufliche Anfragen zu bearbeiten oder Unterstützung zu leisten. Dadurch erhöht sich die Anforderung an die Abgrenzung zwischen Privatleben und Beruf.
A52: 2.3.10 | B52: Weitere psychosoziale Belastungen Der Katalog kann um weitere Kriterien ergänzt werden, die nicht aufgeführt wurden, wie z. B. das selbstständige Treffen folgenschwerer Entscheidungen oder die öffentlich/politisch exponierte Position.
B56: Zutreffende Stufenwertzahl 2.3 (maximal erreichbare Punktzahl = 4) | C56: =IF(SUM(C43:C55)<=4,SUM(C43:C55),4) -> 0
A57: 2.4 Mentale Belastungen: Bewältigen von tätigkeitsbedingten Arbeitsunterbrechungen
A59: Definition:
A60: Arbeitsunterbrechungen und Störungen sind unplanbare, aber nicht vermeidbare tätigkeitsbedingte Änderungen des Arbeitsablaufs, die den geplanten Arbeitsfluss unterbrechen. Je häufiger die Störungen auftreten und je länger sie andauern, desto größer ist die Anforderung an die Fähigkeit, sich kurzzeitig auf eine neue Aufgabe einzustellen und anschließend zu dem geplanten Arbeitsablauf zurückzukehren. Beispiele für diese Anforderung sind entgegenzunehmende Telefonate, während gerade Schriftverkehr bearbeitet wird, oder das Rufen von Patient*innen, während gerade Medikamente zusammengestellt werden. Zu beachten ist, dass hiermit nur Störungen und Unterbrechungen gemeint sind, die mit der Tätigkeit verbunden und nicht vermeidbar sind. Störungen, die auf dem (zufällig vorhandenen) Charakter anderer Personen beruhen, wie zum Beispiel stets um ein Gespräch bittende Arbeitskolleg*innen oder Vorgesetzte, fallen nicht hierunter.
A62: Operationalisierung:
A63: Häufigkeit und Dauer der Arbeitsunterbrechungen
B64: Bitte Zahlenwert der zutreffenden Stufe eintragen.
A65: Stufen | B65: Definition der Stufen | C65: =Übersicht!D5 -> Tätigkeit
A66: 0 | B66: Wenige Arbeitsunterbrechungen und Störungen
A67: 1 | B67: Zwischen 5 und 10 Arbeitsunterbrechungen pro Tag von jeweils bis zu 10 Minuten ODER Zwischen 3 und 5 Arbeitsunterbrechungen pro Tag von jeweils mehr als 10 Minuten
A68: 2 | B68: Mehr als 10 Arbeitsunterbrechungen pro Tag von jeweils bis zu 10 Minuten ODER Mehr als 5 Arbeitsunterbrechungen pro Tag von jeweils mehr als 10 Minuten
B69: Zutreffende Stufenwertzahl 2.4 | C69: =SUM(C66:C68) -> 0
A70: 2.5 Mentale Belastungen: ununterbrochene Aufmerksamkeit und Konzentration
A72: Definitionen:
A73: Alle Tätigkeiten erfordern Konzentration. Aber wenn die Konzentration einmal unterbrochen ist, wird meist das Arbeitsergebnis nicht gefährdet, sondern man macht dort weiter, wo man unterbrochen wurde. Manche Tätigkeiten jedoch erfordern eine hohe und ununterbrochene Aufmerksamkeit und Konzentration, um jederzeit auf unvorhergesehene Ereignisse und ungeplante (auch gruppendynamische) Situationen reagieren zu können. Ansonsten würde das Ergebnis der Tätigkeit oder seine mindestens erforderliche Qualität gefährdet. In dieser Weise ununterbrochene Aufmerksamkeit und Konzentration sind zum Beispiel erforderlich bei Kontrolltätigkeiten an einem Montageband, während der Durchführung von Lehreinheiten oder bei Operationen (in einem Krankenhaus).
A75: Operationalisierung:
A76: Vorliegen und Anteil an der Arbeitszeit
B77: Bitte Zahlenwert der zutreffenden Stufe eintragen.
A78: Stufen | B78: Definition der Stufen | C78: =Übersicht!D5 -> Tätigkeit
A79: 0 | B79: Nicht erforderlich bzw. nicht typisch für die Tätigkeit
A80: 1 | B80: Erforderlich in bis zu 50 % der Arbeitszeit
A81: 2 | B81: Erforderlich in mehr als 50 % der Arbeitszeit
B82: Zutreffende Stufenwertzahl 2.5 | C82: =SUM(C79:C81) -> 0

Sheet Verantwortung
A1: Anforderungen an Verantwortung
A3: 3.1 Ökonomische Verantwortung
A5: Definition:
A6: Ökonomische Verantwortung meint die Verantwortung für den materiellen oder finanziellen unternehmerischen Erfolg. Sie kann in der Verantwortung für den sorgfältigen und korrekten Umgang mit Budgets oder Maschinen bestehen. Verantwortung kann auch für eine qualitativ hochwertige Produkterstellung und die Gewährleistung von Produktsicherheit übernommen werden. Darüber hinaus kann eine Tätigkeit die Verantwortung für die Gestaltung und Einhaltung effizienter, umsatz- und auslastungsförderlicher Prozesse und Abläufe beinhalten.
A8: Operationalisierung:
A9: Vorliegen einer oder mehrerer Anforderungen an die genannten Verantwortungsbereiche
B10: Bitte Zahlenwert der zutreffenden Stufe eintragen.
A11: Stufen | B11: Definition der Stufen | C11: =Übersicht!D5 -> Tätigkeit
A12: 0 | B12: Keine ökonomische Verantwortung
A13: 1 | B13: Vorliegen von Verantwortung für einen der genannten Bereiche
A14: 2 | B14: Vorliegen von Verantwortung für zwei der genannten Bereiche
A15: 3 | B15: Vorliegen von Verantwortung für drei der genannten Bereiche
B16: Zutreffende Stufenwertzahl 3.1 | C16: =SUM(C11:C15) -> 0
A17: 3.2 Verantwortung für die Sicherheit anderer Personen
A19: Definition:
A20: Die Sicherheit anderer Personen kann sich auf ihre physische Unversehrtheit, ihre psychische Gesundheit und auf die Sicherheit von vertraulichen Daten beziehen. Verantwortung für die physische Gesundheit von anderen Personen kann zum Beispiel in den Bereichen Gesundheit, Ernährung oder Transport auftreten. Sie betrifft auch die körperliche Sicherheit von Personen, zum Beispiel in der Produktion. Verantwortung für die psychische Gesundheit umfasst soziale Prozesse innerhalb einer Arbeitsgruppe oder im Zusammenspiel mit einer Gruppe externer Kontaktpersonen. Gemeint ist auch die Rücksichtnahme auf die psychische Verfassung anderer Personen. Dies kann im Rahmen von Lern- und Erziehungsprozessen, bei therapeutischen (Heil-) Prozessen erforderlich werden, aber auch in jeder anderen, gruppendynamisch geprägten Situation. Die Sicherheit anderer Personen kann sich aber auch auf Daten und Informationen beziehen, die über bestimmte Personen und Sachverhalte bekannt sind und deren unsachgemäße Verbreitung Schaden anrichten würde.
A22: Operationalisierung:
A23: Vorliegen einer oder mehrerer Anforderungen an die genannten Verantwortungsbereiche
B24: Bitte Zahlenwert der zutreffenden Stufe eintragen.
A25: Stufen | B25: Definition der Stufen | C25: =Übersicht!D5 -> Tätigkeit
A26: 0 | B26: Keine Verantwortung für die physische und psychische Gesundheit und die Datensicherheit
A27: 1 | B27: Vorliegen von Verantwortung in einem der genannten Bereiche
A28: 2 | B28: Vorliegen von Verantwortung in zwei der genannten Bereiche
A29: 3 | B29: Vorliegen von Verantwortung in allen genannten Bereichen
B30: Zutreffende Stufenwertzahl 3.2 | C30: =SUM(C25:C29) -> 0
A31: 3.3 Verantwortung für die Arbeit anderer und für Führung
A33: Definition:
A34: Bei der Verantwortung für die Arbeit anderer kann es sich um die Verantwortung für Termine oder die Arbeitsorganisation anderer Personen handeln oder auch um die regelmäßige Begleitung von Qualifizierungsprozessen, zum Beispiel von Praktikant*innen, Studierenden und Auszubildenden. Ebenfalls fallen hierunter eine nicht nur vorübergehende Projektleitung, die Koordination einer ständigen, teilautonomen Arbeitsgruppe oder die Fachaufsicht über einen definierten fachlichen Bereich. Mit Führungsverantwortung sind sowohl die disziplinarische Führung von Mitarbeiter*innen als auch die Verantwortlichkeit für die Umsetzung von langfristigen, strategischen Zielen gemeint.
A36: Operationalisierung:
A37: Art der Verantwortung
B38: Bitte Zahlenwert der zutreffenden Stufe eintragen.
A39: Stufen | B39: Definition der Stufen | C39: =Übersicht!D5 -> Tätigkeit
A40: 0 | B40: Nicht erforderlich
A41: 1 | B41: Verantwortung für Termine und die Arbeitsorganisation anderer Personen sowie die regelmäßige Verantwortung für die Begleitung von Qualifizierungsprozessen
A42: 2 | B42: Verantwortung für die Projektleitung, Fachaufsicht, Koordination einer ständigen Arbeitsgruppe
A43: 3 | B43: Disziplinarische Führungsverantwortung für bis zu 20 Beschäftigte
A44: 4 | B44: Strategische Verantwortung oder disziplinarische Führungsverantwortung für mehr als 20 Beschäftigte
B45: Zutreffende Stufenwertzahl 3.3 | C45: =SUM(C40:C44) -> 0
A46: 3.4 Verantwortung für die Umwelt
A48: Definition:
A49: Eine Verantwortung für die Umwelt liegt bei Tätigkeiten vor, bei denen Fehler zu Umweltschäden führen können und deshalb Vorkehrungen zur Prävention von Umweltschäden getroffen und beachtet werden müssen. Eine erhöhte Umweltverantwortung ist dann gegeben, wenn gravierende Umweltschäden verursacht werden könnten, zum Beispiel beim Führen eines Gefahrguttransports oder bei der Beaufsichtigung von Kläranlagen oder Müllverbrennungsanlagen. Die Verantwortung für die Umwelt muss über eine allgemein in der Gesellschaft empfundene Verantwortung hinausgehen, zum Beispiel sparsamer Umgang mit Energie oder Papier. Eine ausschließlich inhaltlich-fachliche Beschäftigung mit dem Thema Umwelt ist hier ebenfalls nicht gemeint.
A51: Operationalisierung:
A52: Vorliegen und Ausmaß der Anforderung
B53: Bitte Zahlenwert der zutreffenden Stufe eintragen.
A54: Stufen | B54: Definition der Stufen | C54: =Übersicht!D5 -> Tätigkeit
A55: 0 | B55: Keine Verantwortung für die Umwelt
A56: 1 | B56: Vorliegen von Verantwortung für die Umwelt am eigenen Arbeitsplatz
A57: 2 | B57: Vorliegen von Verantwortung für die Umwelt für mehrere Arbeitsplätze oder erhöhte Umweltverantwortung am eigenen Arbeitsplatz
B58: Zutreffende Stufenwertzahl 3.4 | C58: =SUM(C53:C57) -> 0
A61: 3.5 Verantwortung für die eigene Qualifizierung
A63: Definition:
A64: Verantwortung für die eigene Qualifizierung liegt vor, wenn nicht nur ausnahmsweise, sondern regelmäßig fachlich-inhaltliche, technologische, prozessbezogene oder anderweitige Neuerungen beachtet werden müssen und die Aneignung der erforderlichen Kenntnisse nicht systematisch (durch das Unternehmen) organisiert und angeboten wird, sondern selbstständig und in eigener Initiative erfolgen muss. Die Aneigung der Kenntnisse kann beispielsweise durch Selbstlernen mithilfe analoger oder digitaler Lernmedien, Hilfefunktionen und unternehmensinterne und -externe Informationsplattformen, durch kollegialen Austausch oder Ausprobieren („Versuch und Irrtum“) erfolgen.
A66: Operationalisierung:
A67: Umfang und Verfügbarkeit beziehungsweise Neuartigkeit des erforderlichen Wissens
B68: Bitte Zahlenwert der zutreffenden Stufe eintragen.
A69: Stufen | B69: Definition der Stufen | C69: =Übersicht!D5 -> Tätigkeit
A70: 0 | B70: Keine Verantwortung für die eigene Qualifizierung
A71: 1 | B71: Verantwortung für die Aktualisierung vorhandenen Wissens
A72: 2 | B72: Verantwortung für die Verbreiterung oder Vertiefung des vorhandenen Wissens
B73: Zutreffende Stufenwertzahl 3.5 | C73: =SUM(C68:C72) -> 0

Sheet Arbeitsbedingungen
A1: Arbeitsbedingungen
A3: 4.1 Belastende arbeitszeitliche Bedingungen
A5: Definition:
A6: Mit belastenden arbeitszeitlichen Bedingungen sind Arbeitszeiten gemeint, die sich durch ihre Lage oder ihre geringe Planbarkeit belastend auf den menschlichen Organismus auswirken. Dabei dürfen Arbeitszeitbedingungen hier nur berücksichtigt werden, soweit sie nicht anderweitig angemessen bewertet und bezahlt werden, zum Beispiel durch Zuschläge. Belastende arbeitszeitliche Bedingungen können Früh-, Spät- oder Nachtschichten sein, auch Bereitschaftsdienste und Wochenendarbeit zählen dazu. Belastend sind außerdem kurzfristig bekannt gegebene Arbeitspläne, die häufig zeitliche Abweichungen vom ursprünglichen Arbeitsplan beinhalten. Mit dieser Anforderung werden die geltenden Arbeitszeitmodelle angesprochen. Überstunden sind hiermit nicht gemeint. Darüber hinaus können auch Zeit- und Termindruck durch unverschiebbare und unvorhersehbare Termine oder durch außergewöhnlich hohen Arbeitsumfang und -dichte arbeitszeitliche Belastungen darstellen.
A8: Operationalisierung:
A9: Häufigkeit des Vorliegens von arbeitszeitlichen Belastungen
B10: Bitte Zahlenwert der zutreffenden Stufe eintragen.
A11: Stufen | B11: Definition der Stufen | C11: =Übersicht!D5 -> Tätigkeit
A12: 0 | B12: Liegt nicht vor bzw. ist nicht typisch für die Tätigkeit oder wird anderweitig durch Zulagen oder Zuschläge bezahlt
A13: 1 | B13: Kommt mehr als 3 x im Jahr vor
A14: 2 | B14: Kommt bis zu 3 x monatlich vor
A15: 3 | B15: Kommt ständig bzw. mindestens wöchentlich vor
B16: Zutreffende Stufenwertzahl 4.1 | C16: =SUM(C12:C15) -> 0
A19: 4.2 Beeinträchtigende Umgebungsbedingungen
A21: Definition:
A22: Manche Umgebungsbedingungen wirken sich für den Menschen körperlich beeinträchtigend oder belastend aus, sind aber untrennbar mit der Tätigkeit und der Umgebung, in der diese ausgeübt wird, verbunden. Beeinträchtigungen oder Belastungen, die durch eine nicht ordnungsgemäße Gestaltung oder eine zufällig vorhandene Arbeitsumgebung entstehen, sind hier nicht gemeint. Umgebungsbedingungen, die durch Zulagen oder Zuschläge entgolten werden, dürfen hier nicht (doppelt) bewertet werden.
A24: Operationalisierung:
A25: Vorliegen der Beeinträchtigung (Es können maximal vier Beeinträchtigungen in die Bewertung eingehen, um das Gewicht dieses Bewertungsaspekts zu begrenzen.)
B26: Bitte eine 1 eintragen, wenn die Anforderung typisch für diese Tätigkeit ist.
A27: Nr. | B27: Beeinträchtigende Umgebungsbedingungen | C27: =Übersicht!D5 -> Tätigkeit
A28: 4.2.1 | B28: Unfall- und/oder Ansteckungsgefährdung Gemeint ist eine Gefahr, die über das übliche Maß hinausgeht, z. B. bei der Arbeit in öffentlichen Räumen.
A29: 4.2.2 | B29: Schädigende chemische Substanzen und/oder Luftverschmutzung Gemeint sind z. B. Putzmittel, Säuren und Farben sowie Feinstaub.
A30: 4.2.3 | B30: Lärm Gemeint ist starker Lärm, der absolut eine Belastung darstellt, z. B. durch bestimmte Maschinen, aber auch Lärm, der die Konzentration beeinträchtigt, z. B. durch andere Menschen oder Druckergeräusche im Büro.
A31: 4.2.4 | B31: Kälte und/oder Hitze Gemeint sind sowohl eine regelmäßige und tätigkeitsbezogene Belastung durch Kälte und/oder Hitze als auch häufige Temperaturschwankungen. „Zufällige“ Belastungen, z. B. durch schlecht klimatisierte Räume, sind hier nicht gemeint.
A32: 4.2.5 | B32: Zugluft Gemeint ist eine regelmäßige und tätigkeitsbezogene Belastung durch Zugluft. „Zufällige“ Belastungen, z. B. durch nicht ordnungsgemäß gestaltete Räume, sind hier nicht gemeint.
A33: 4.2.6 | B33: Nässe Gemeint ist eine regelmäßige und tätigkeitsbezogene Belastung durch Nässe.
A34: 4.2.7 | B34: Dämpfe und/oder Staub Gemeint sind auch unschädliche Dämpfe, wie z. B. Wasserdampf.
A35: 4.2.8 | B35: Vibrationen Gemeint sind z. B. Vibrationen, die beim Bedienen bestimmter Maschinen auftreten.
A36: 4.2.9 | B36: Unangenehme Gerüche Schwierig zu objektivierende Belastung, nachvollziehbar vorhanden z. B. in der Kranken- und Altenpflege oder bei bestimmten Tätigkeiten in der Abfallverwertung.
A37: 4.2.10 | B37: Spezielle Hygienevorschriften Gemeint sind Belastungen durch notwendige Schutzmaßnahmen, um sich selbst oder andere vor Infektionen oder Verschmutzungen zu schützen.
A38: 4.2.11 | B38: Andere belastende Umgebungsbedingungen Spezielle Umgebungsbedingungen, die noch nicht aufgelistet wurden, nämlich:
B42: Zutreffende Stufenwertzahl 4.2 (maximal erreichbare Punktzahl = 4) | C42: =IF(SUM(C28:C41)<=4,SUM(C28:C41),4) -> 0
A45: 4.3 Belastende Einflüsse durch technologische Transformationsprozesse
A47: Definition:
A48: Belastende Einflüsse durch technologische Transformationsprozesse und die mit ihnen verbundenen Veränderungen können im Hinblick auf unterschiedliche Anforderungen entstehen, zum Beispiel durch die Anwendung digitaler Arbeitsmittel, aber auch Änderungen im Arbeitsablauf. Was unter der jeweiligen Belastung verstanden wird, wird in der Tabelle definiert.
A50: Operationalisierung:
A51: Vorliegen der Belastung (Es können maximal drei Belastungen in die Bewertung eingehen, um das Gewicht dieses Bewertungsaspekts zu begrenzen.)
B52: Bitte eine 1 eintragen, wenn die Anforderung typisch für diese Tätigkeit ist.
A53: Nr.
A54: 4.3.1 | B54: Hohe Frequenz von Veränderungen Die technologische Transformation bringt technische, aber auch organisatorische und kulturelle Veränderungen mit sich. Wenn die Frequenz von Veränderungen so hoch ist, dass keine entlastenden Gewöhnungseffekte entstehen, sondern eine ständige Anpassung an Veränderungen erforderlich ist, stellt dies eine besondere Anforderung dar, die hier gemeint ist.
A55: 4.3.2 | B55: Anpassung an das Tempo der Technik Gemeint ist die Belastung, die dadurch entsteht, dass das eigene Arbeitstempo von Reaktions- und Verarbeitungszeiten beeinflusst wird, ohne dass die Hintergründe und Zeitbedarfe durchgängig transparent sind.
A56: 4.3.3 | B56: Hohe Anzahl von Informationen auf unterschiedlichen Kanälen Gemeint ist die Anforderung, eine Vielzahl von Informationen auf unterschiedlichen Kanälen empfangen und priorisieren zu müssen. Belastend sind die Gleichzeitigkeit und Vielfalt der zu beobachtenden Informationskanäle, wie z. B. E-Mails, interne und/oder externe Ticket-Systeme, Chat-Nachrichten, Telefon.
A57: 4.3.4 | B57: Orts- und zeitflexibles Arbeiten Das Arbeiten im Homeoffice, Mobile Work oder Remote Work stellen Anforderungen an die Selbstorganisation und Selbstdisziplin sowie den Umgang mit neuen Formen der kollegialen Zusammenarbeit. Gefordert wird das Management der Grenzen zwischen Arbeit und Privatleben, der räumlichen und zeitlichen Flexibilität und des Arbeitszeitvolumens.
A58: 4.3.5 | B58: Gleichzeitigkeit und Vielfalt von Aufgaben und/oder Prozessen Gemeint sind Arbeitssituationen, in denen gleichzeitig mehrere Aufgaben und/oder Prozesse gesteuert oder überwacht werden müssen, die sich überdies voneinander unterscheiden. Dies stellt eine spezifische Anforderung an mentale Fähigkeiten und psychische Belastbarkeit (Stressresistenz) dar.
A59: 4.3.6 | B59: Technologische Überwachung der Arbeitsabläufe Gemeint sind (digitale oder KI-gestützte) Technologien, die die Überwachung von Arbeitsabläufen durch Kameras, Außenstehende oder technische Auswertungsmöglichkeiten ermöglichen oder erfordern und dadurch besondere psychische Belastungen auslösen.
A60: 4.3.7 | B60: Andere belastende Einflüsse durch technische Transformationsprozesse Spezielle Einflüsse durch technische Transformationsprozesse, die noch nicht aufgelistet wurden, nämlich:
B62: Zutreffende Stufenwertzahl 4.3 (maximal erreichbare Punktzahl = 3) | C62: =IF(SUM(C54:C61)<=3,SUM(C54:C61),3) -> 0
